BEGIN:VCALENDAR
PRODID:-//Mozilla.org/NONSGML Mozilla Calendar V1.1//EN
VERSION:2.0
BEGIN:VEVENT
SUMMARY:38330 - Mikroøkonomi - AU Statskundskab - inkl. eksamensworkshop
LOCATION:MarselisborgCentret (Konferencelokale A+B), Evald Krogs Gade 9, 8000 Aarhus C
DESCRIPTION: 
DTSTART:20260516T080000Z
DTEND:20260516T130000Z
END:VEVENT
END:VCALENDAR
