BEGIN:VCALENDAR
PRODID:-//Mozilla.org/NONSGML Mozilla Calendar V1.1//EN
VERSION:2.0
BEGIN:VEVENT
SUMMARY:38600 - Strategi
LOCATION:KP - Campus Sigurdsgade (C075), Sigurdsgade 26, 2200 KBH N
DESCRIPTION:
DTSTART:20260608T080000Z
DTEND:20260608T120000Z
END:VEVENT
END:VCALENDAR
