BEGIN:VCALENDAR
PRODID:-//Mozilla.org/NONSGML Mozilla Calendar V1.1//EN
VERSION:2.0
BEGIN:VEVENT
SUMMARY:38683 - Mikroøkonomi - Del 2 - SDU HA - inkl. eksamensworkshop
LOCATION:Tietgenskolen, Kurser (Auditorium), Rugårdsvej 286, 5210 Odense NV
DESCRIPTION: 
DTSTART:20260515T100000Z
DTEND:20260515T150000Z
END:VEVENT
END:VCALENDAR
