BEGIN:VCALENDAR
PRODID:-//Mozilla.org/NONSGML Mozilla Calendar V1.1//EN
VERSION:2.0
BEGIN:VEVENT
SUMMARY:38786 - Eksamenskickstart i Mikroøkonomi (GRATIS)
LOCATION:Tietgenskolen, Kurser (Auditorium), Rugårdsvej 286, 5210 Odense NV
DESCRIPTION:
DTSTART:20260515T100000Z
DTEND:20260515T150000Z
END:VEVENT
END:VCALENDAR
