BEGIN:VCALENDAR
PRODID:-//Mozilla.org/NONSGML Mozilla Calendar V1.1//EN
VERSION:2.0
BEGIN:VEVENT
SUMMARY:38495 - MOE II - Mundtlig eksamen
LOCATION:KP - Campus Sigurdsgade (B011), Sigurdsgade 26, 2200 KBH N
DESCRIPTION:
DTSTART:20260606T080000Z
DTEND:20260606T123000Z
END:VEVENT
END:VCALENDAR
