BEGIN:VCALENDAR
PRODID:-//Mozilla.org/NONSGML Mozilla Calendar V1.1//EN
VERSION:2.0
BEGIN:VEVENT
SUMMARY:41631 - Polyteknisk Grundlag - Matematik 1b
LOCATION:KP - Campus Sigurdsgade (Lokale oplyses senere), Sigurdsgade 26, 2200 KBH N
DESCRIPTION:
DTSTART:20260503T070000Z
DTEND:20260503T143000Z
END:VEVENT
END:VCALENDAR
