BEGIN:VCALENDAR
PRODID:-//Mozilla.org/NONSGML Mozilla Calendar V1.1//EN
VERSION:2.0
BEGIN:VEVENT
SUMMARY:41632 - Makroøkonomi - Eksamensklar Aalborg
LOCATION:UCN Aalborg Øst (Lokale oplyses snarest), Selma Lagerløfs Vej 2, 9220 Aalborg Øst
DESCRIPTION:
DTSTART:20260530T090000Z
DTEND:20260530T150000Z
END:VEVENT
END:VCALENDAR
