BEGIN:VCALENDAR
PRODID:-//Mozilla.org/NONSGML Mozilla Calendar V1.1//EN
VERSION:2.0
BEGIN:VEVENT
SUMMARY:41633 - Revision 2 - Online
LOCATION:KP - Campus Sigurdsgade (B011), Sigurdsgade 26, 2200 KBH N
DESCRIPTION:
DTSTART:20260530T080000Z
DTEND:20260530T120000Z
END:VEVENT
END:VCALENDAR
