BEGIN:VCALENDAR
PRODID:-//Mozilla.org/NONSGML Mozilla Calendar V1.1//EN
VERSION:2.0
BEGIN:VEVENT
SUMMARY:41663 - Mikroøkonomi (HA MAT) - Online
LOCATION:KP - Campus Sigurdsgade (B011), Sigurdsgade 26, 2200 KBH N
DESCRIPTION:
DTSTART:20260513T140000Z
DTEND:20260513T180000Z
END:VEVENT
END:VCALENDAR
