BEGIN:VCALENDAR
PRODID:-//Mozilla.org/NONSGML Mozilla Calendar V1.1//EN
VERSION:2.0
BEGIN:VEVENT
SUMMARY:41743 - Eksamenskickstart - VØS 2 - Regnskabsvæsen
LOCATION:KP - Campus Sigurdsgade (C075), Sigurdsgade 26, 2200 KBH N
DESCRIPTION:
DTSTART:20260511T150000Z
DTEND:20260511T180000Z
END:VEVENT
END:VCALENDAR
