BEGIN:VCALENDAR
PRODID:-//Mozilla.org/NONSGML Mozilla Calendar V1.1//EN
VERSION:2.0
BEGIN:VEVENT
SUMMARY:41746 - Eksamenskickstart - Eksternt Regnskab - HA Psyk
LOCATION:KP - Campus Sigurdsgade (C060), Sigurdsgade 26, 2200 KBH N
DESCRIPTION:
DTSTART:20260504T150000Z
DTEND:20260504T180000Z
END:VEVENT
END:VCALENDAR
