BEGIN:VCALENDAR
PRODID:-//Mozilla.org/NONSGML Mozilla Calendar V1.1//EN
VERSION:2.0
BEGIN:VEVENT
SUMMARY:38471 - Eksternt Årsregnskab - Aarhus 
LOCATION:MarselisborgCentret (Konferencelokale A+B), Evald Krogs Gade 9, 8000 Aarhus C
DESCRIPTION:
DTSTART:20260523T070000Z
DTEND:20260523T120000Z
END:VEVENT
END:VCALENDAR
