BEGIN:VCALENDAR
PRODID:-//Mozilla.org/NONSGML Mozilla Calendar V1.1//EN
VERSION:2.0
BEGIN:VEVENT
SUMMARY:41747 - Eksternt Årsregnskab - Aarhus
LOCATION:MarselisborgCentret (Konferencelokale A+B), Evald Krogs Gade 9, 8000 Aarhus C
DESCRIPTION:
DTSTART:20260523T133000Z
DTEND:20260523T183000Z
END:VEVENT
END:VCALENDAR
