BEGIN:VCALENDAR
PRODID:-//Mozilla.org/NONSGML Mozilla Calendar V1.1//EN
VERSION:2.0
BEGIN:VEVENT
SUMMARY:41748 - Eksamenskickstart - Eksternt Regnskab - HA Fil
LOCATION:KP - Campus Sigurdsgade (C075), Sigurdsgade 26, 2200 KBH N
DESCRIPTION:
DTSTART:20260505T150000Z
DTEND:20260505T180000Z
END:VEVENT
END:VCALENDAR
